BEGIN:VCALENDAR
VERSION:2.0
PRODID:icalendar-ruby
CALSCALE:GREGORIAN
METHOD:PUBLISH
BEGIN:VEVENT
DTSTAMP:20260421T124903Z
UID:62-3910297@sjpet.org
DTSTART:20261017T150000Z
DTEND:20261017T161500Z
CLASS:PUBLIC
CREATED:20260421T041706
DESCRIPTION:
LAST-MODIFIED:20260421T041706
LOCATION:
SUMMARY:Gideons Prayer Meeting
URL;VALUE=URI:https://sjpet.org/events/gideons-prayer-meeting/2026-10-17
END:VEVENT
END:VCALENDAR
