BEGIN:VCALENDAR
VERSION:2.0
PRODID:icalendar-ruby
CALSCALE:GREGORIAN
METHOD:PUBLISH
BEGIN:VEVENT
DTSTAMP:20260421T140905Z
UID:62-3912902@sjpet.org
DTSTART:20261024T150000Z
DTEND:20261024T161500Z
CLASS:PUBLIC
CREATED:20260421T065242
DESCRIPTION:
LAST-MODIFIED:20260421T065242
LOCATION:
SUMMARY:Gideons Prayer Meeting
URL;VALUE=URI:https://sjpet.org/events/gideons-prayer-meeting/2026-10-24
END:VEVENT
END:VCALENDAR
