BEGIN:VCALENDAR
VERSION:2.0
PRODID:icalendar-ruby
CALSCALE:GREGORIAN
METHOD:PUBLISH
BEGIN:VEVENT
DTSTAMP:20260421T153502Z
UID:62-3912903@sjpet.org
DTSTART:20261031T150000Z
DTEND:20261031T161500Z
CLASS:PUBLIC
CREATED:20260421T065242
DESCRIPTION:
LAST-MODIFIED:20260421T065242
LOCATION:
SUMMARY:Gideons Prayer Meeting
URL;VALUE=URI:https://sjpet.org/events/gideons-prayer-meeting/2026-10-31
END:VEVENT
END:VCALENDAR
