BEGIN:VCALENDAR
VERSION:2.0
PRODID:icalendar-ruby
CALSCALE:GREGORIAN
METHOD:PUBLISH
BEGIN:VEVENT
DTSTAMP:20260421T093340Z
UID:9-3906530@sjpet.org
DTSTART:20220323T163000Z
DTEND:20220323T173000Z
CLASS:PUBLIC
CREATED:20260420T171041
DESCRIPTION:Join us as we pray for each other and the world
LAST-MODIFIED:20260420T171041
LOCATION:St. John's Anglican Church\, Petaluma
SUMMARY:Small Group
URL;VALUE=URI:https://sjpet.org/events/small-group/2022-03-23
END:VEVENT
END:VCALENDAR
