BEGIN:VCALENDAR
VERSION:2.0
PRODID:icalendar-ruby
CALSCALE:GREGORIAN
METHOD:PUBLISH
BEGIN:VEVENT
DTSTAMP:20260421T134318Z
UID:9-3909137@sjpet.org
DTSTART:20220427T163000Z
DTEND:20220427T173000Z
CLASS:PUBLIC
CREATED:20260421T041702
DESCRIPTION:Join us as we pray for each other and the world
LAST-MODIFIED:20260421T041702
LOCATION:St. John's Anglican Church\, Petaluma
SUMMARY:Small Group
URL;VALUE=URI:https://sjpet.org/events/small-group/2022-04-27
END:VEVENT
END:VCALENDAR
