BEGIN:VCALENDAR
VERSION:2.0
PRODID:icalendar-ruby
CALSCALE:GREGORIAN
METHOD:PUBLISH
BEGIN:VEVENT
DTSTAMP:20260421T152315Z
UID:9-3911742@sjpet.org
DTSTART:20220504T163000Z
DTEND:20220504T173000Z
CLASS:PUBLIC
CREATED:20260421T065239
DESCRIPTION:Join us as we pray for each other and the world
LAST-MODIFIED:20260421T065239
LOCATION:St. John's Anglican Church\, Petaluma
SUMMARY:Small Group
URL;VALUE=URI:https://sjpet.org/events/small-group/2022-05-04
END:VEVENT
END:VCALENDAR
