BEGIN:VCALENDAR
VERSION:2.0
PRODID:icalendar-ruby
CALSCALE:GREGORIAN
METHOD:PUBLISH
BEGIN:VEVENT
DTSTAMP:20260422T132227Z
UID:9-3924763@sjpet.org
DTSTART:20220511T163000Z
DTEND:20220511T173000Z
CLASS:PUBLIC
CREATED:20260422T042543
DESCRIPTION:Join us as we pray for each other and the world
LAST-MODIFIED:20260422T042543
LOCATION:St. John's Anglican Church\, Petaluma
SUMMARY:Small Group
URL;VALUE=URI:https://sjpet.org/events/small-group/2022-05-11
END:VEVENT
END:VCALENDAR
