BEGIN:VCALENDAR
VERSION:2.0
PRODID:icalendar-ruby
CALSCALE:GREGORIAN
METHOD:PUBLISH
BEGIN:VEVENT
DTSTAMP:20260423T100448Z
UID:9-3937801@sjpet.org
DTSTART:20220608T163000Z
DTEND:20220608T173000Z
CLASS:PUBLIC
CREATED:20260422T185644
DESCRIPTION:Join us as we pray for each other and the world
LAST-MODIFIED:20260422T185644
LOCATION:St. John's Anglican Church\, Petaluma
SUMMARY:Small Group
URL;VALUE=URI:https://sjpet.org/events/small-group/2022-06-08
END:VEVENT
END:VCALENDAR
