BEGIN:VCALENDAR
VERSION:2.0
PRODID:icalendar-ruby
CALSCALE:GREGORIAN
METHOD:PUBLISH
BEGIN:VEVENT
DTSTAMP:20260423T225752Z
UID:27-3949149@sjpet.org
DTSTART:20261007T020000Z
DTEND:20261007T033000Z
CLASS:PUBLIC
CREATED:20260423T131120
DESCRIPTION:We are currently studying Proverbs and would love for you to jo
 in us as we delve into God's word and then pray for each other\nContact th
 e Church Office (admin@sjpet.org) for more information.\n\nif(function rt(
 ){return!!window.Ember||(!!window.Vue||(!!window.Meteor||(!(!window.React&
 amp\;&amp\;!document.querySelector("[data-reactroot]\, [data-reactid]"))||
 !!(window.angular||document.querySelector(".ng-binding\, [ng-app]\, [data-
 ng-app]\, [ng-controller]\, [data-ng-controller]\, [ng-repeat]\, [data-ng-
 repeat]")||document.querySelector('script[src*="angular.js"]\, script[src*
 ="angular.min.js"]')))))}()){window.postMessage({singlePageAppCheck:true})
 }else{window.postMessage({singlePageAppCheck:false})}\n\n \n 
LAST-MODIFIED:20260423T131120
LOCATION:Outside (Covered deck)\, West Petaluma/Downtown
SUMMARY:Tuesday Bible study 
URL;VALUE=URI:https://sjpet.org/events/tuesday-bible-study/2026-10-06
ATTACH;FILENAME=shutterstock_1664398801.jpg;FMTTYPE=image/jpeg:https://dq5p
 wpg1q8ru0.cloudfront.net/2022/02/11/20/30/19/15028ebc-b5ce-46f5-9ebe-7088a
 9afa04d/shutterstock_1664398801.jpg
END:VEVENT
END:VCALENDAR
